BEGIN:VCALENDAR
VERSION:2.0
PRODID:-//Tukios.com/
BEGIN:VEVENT
UID:fee65ecc-5659-48e5-bbb0-21a00fc70942@www.fullertonfuneralhomechicago.com
DTSTAMP:20260424T202948Z
DTSTART:20260429T174500Z
DTEND:20260429T183000Z
SUMMARY:Interment
DESCRIPTION:
URL:https://www.fullertonfuneralhomechicago.com/obituaries/jaime-rodriguez
LOCATION: 5255 North Pulaski Road  Chicago IL 60630
GEO:41.9761921;-87.7267625
END:VEVENT
END:VCALENDAR