BEGIN:VCALENDAR
VERSION:2.0
PRODID:-//Tukios.com/
BEGIN:VEVENT
UID:940187b8-c83b-43b1-b968-0e86715472fe@www.fullertonfuneralhomechicago.com
DTSTAMP:20260424T202639Z
DTSTART:20260429T160000Z
DTEND:20260429T170000Z
SUMMARY:Mass
DESCRIPTION:
URL:https://www.fullertonfuneralhomechicago.com/obituaries/jaime-rodriguez
LOCATION: 4835 West Altgeld Street  Chicago IL 60639
GEO:41.9258929;-87.7478931
END:VEVENT
END:VCALENDAR