BEGIN:VCALENDAR
VERSION:2.0
PRODID:-//Tukios.com/
BEGIN:VEVENT
UID:f34cc705-fffc-4f73-94ea-f0dad97635f9@www.fullertonfuneralhomechicago.com
DTSTAMP:20260424T202552Z
DTSTART:20260429T130000Z
DTEND:20260429T153000Z
SUMMARY:Visitation
DESCRIPTION:
URL:https://www.fullertonfuneralhomechicago.com/obituaries/jaime-rodriguez
LOCATION: 5735 W Fullerton Ave  Chicago IL 60639
GEO:41.9236903;-87.7698343
END:VEVENT
END:VCALENDAR